BEGIN:VCALENDAR
PRODID:-//AT Content Types//AT Event//EN
VERSION:2.0
METHOD:PUBLISH
BEGIN:VEVENT
DTSTAMP:20260421T090517Z
CREATED:20170106T154205Z
UID:ATEvent-d82ec5a925e0def39c4db62c166ee9eb
LAST-MODIFIED:20210217T155641Z
SUMMARY:Successful Buffer Restoration\: Initial Establishment Methods and Post-Planting Care
LOCATION:http://conservationwebinars.net
DTSTART:20170222T190000Z
DTEND:20170222T200000Z
URL:https\://conservationwebinars.net/webinars/successful-buffer-resto
 ration
DESCRIPTION:Participants will learn proven successful methods for esta
 blishing riparian forest buffers at a landscape scale and the critical
  post-planting care details needed for success.  https\://conservation
 webinars.net/webinars/successful-buffer-restoration
URL:https\://conservationwebinars.net/webinars/successful-buffer-restoration
CLASS:PUBLIC
END:VEVENT
END:VCALENDAR
