BEGIN:VCALENDAR
PRODID:-//AT Content Types//AT Event//EN
VERSION:2.0
METHOD:PUBLISH
BEGIN:VEVENT
DTSTAMP:20260422T030550Z
CREATED:20160128T165826Z
UID:ATEvent-1a04959556a43cf2b58982f2b551371c
LAST-MODIFIED:20210210T175736Z
SUMMARY:Integrating Grazing into Cropping Systems
LOCATION:http://conservationwebinars.net
DTSTART:20160308T190000Z
DTEND:20160308T200000Z
URL:https\://conservationwebinars.net/webinars/integrating-grazing-int
 o-cropping-systems
DESCRIPTION:This webinar will describe opportunities to integrate crop
  and livestock systems and how soil health responds to grazing of cove
 r crops and perennial forages in diverse agricultural operations.  htt
 ps\://conservationwebinars.net/webinars/integrating-grazing-into-cropp
 ing-systems
URL:https\://conservationwebinars.net/webinars/integrating-grazing-into-cropping-systems
CLASS:PUBLIC
END:VEVENT
END:VCALENDAR
